BEGIN:VCALENDAR
VERSION:2.0
CALSCALE:GREGORIAN
BEGIN:VEVENT
DTSTART;TZID=Europe/Berlin:20220714T100000
DTEND;TZID=Europe/Berlin:20220715T000000
SUMMARY:ZukLOS-Transferkonferenz
DESCRIPTION:
END:VEVENT
END:VCALENDAR