BEGIN:VCALENDAR
VERSION:2.0
CALSCALE:GREGORIAN
BEGIN:VEVENT
DTSTART;TZID=Europe/Berlin:20250613T150000
DTEND;TZID=Europe/Berlin:20250614T000000
SUMMARY:Zittauer Kinderakademie\: Wissenschaft macht Spaß!
DESCRIPTION:Das Schülerlabor stellt sich vor
END:VEVENT
END:VCALENDAR