BEGIN:VCALENDAR
VERSION:2.0
CALSCALE:GREGORIAN
BEGIN:VEVENT
DTSTART;TZID=Europe/Berlin:20241220T150000
DTEND;TZID=Europe/Berlin:20241221T000000
SUMMARY:Zittauer Kinderakademie\: Weihnachtliche Schauvorlesung
DESCRIPTION:
END:VEVENT
END:VCALENDAR