BEGIN:VCALENDAR
VERSION:2.0
CALSCALE:GREGORIAN
BEGIN:VEVENT
DTSTART;TZID=Europe/Berlin:20230106T150000
DTEND;TZID=Europe/Berlin:20230107T000000
SUMMARY:Zittauer Kinderakademie\: Die Fernerkundung der Erde aus dem Weltall 
DESCRIPTION:Die Fernerkundung der Erde aus dem Weltall - Prof. Dr.-Ing. Bernd Teichert\, HTW Dresden\, Fakultät Geoinformation
END:VEVENT
END:VCALENDAR