BEGIN:VCALENDAR
VERSION:2.0
CALSCALE:GREGORIAN
BEGIN:VEVENT
DTSTART;TZID=Europe/Berlin:20220922T143100
DTEND;TZID=Europe/Berlin:20220923T000000
SUMMARY:Workshop on e-Learning 2022
DESCRIPTION:
END:VEVENT
END:VCALENDAR