BEGIN:VCALENDAR
VERSION:2.0
CALSCALE:GREGORIAN
BEGIN:VEVENT
DTSTART;TZID=Europe/Berlin:20220129T150000
DTEND;TZID=Europe/Berlin:20220130T154500
SUMMARY:Woran glauben Kristin\, Josua\, Ali\, Tuyet und all die anderen\, wenn sie beten?
DESCRIPTION:Kinderakademie Zittau 
END:VEVENT
END:VCALENDAR