BEGIN:VCALENDAR
VERSION:2.0
CALSCALE:GREGORIAN
BEGIN:VEVENT
DTSTART;TZID=Europe/Berlin:20220121T150000
DTEND;TZID=Europe/Berlin:20220122T154500
SUMMARY:Warum ist Blut rot?
DESCRIPTION:Kinderakademie Görlitz
END:VEVENT
END:VCALENDAR