BEGIN:VCALENDAR
VERSION:2.0
CALSCALE:GREGORIAN
BEGIN:VEVENT
DTSTART;TZID=Europe/Berlin:20240522T170000
DTEND;TZID=Europe/Berlin:20240523T000000
SUMMARY:Vortragsabend zum Thema „Umgebindehäuser – Nachhaltig in Bauweise und Nutzung?“
DESCRIPTION:Alljährlich findet am Mittwoch vor dem Tag des offenen Umgebindehauses der Vortragsabend des Informationszentrums Umgebindehaus (IZU) statt. 
END:VEVENT
END:VCALENDAR