BEGIN:VCALENDAR
VERSION:2.0
CALSCALE:GREGORIAN
BEGIN:VEVENT
DTSTART;TZID=Europe/Berlin:20250315T130000
DTEND;TZID=Europe/Berlin:20250316T000000
SUMMARY:Vortrag\: The &quot;Golden Age&quot; of Astrophysics
DESCRIPTION:Einblicke in die Technologieentwicklung am entstehenden Deutschen Zentrum für Astrophysik (DZA)
END:VEVENT
END:VCALENDAR