BEGIN:VCALENDAR
VERSION:2.0
CALSCALE:GREGORIAN
BEGIN:VEVENT
DTSTART;TZID=Europe/Berlin:20240312T143000
DTEND;TZID=Europe/Berlin:20240313T000000
SUMMARY:Vorlesungsteilnehme für Schülerinnen und Schüler\: Business English
DESCRIPTION:
END:VEVENT
END:VCALENDAR