BEGIN:VCALENDAR
VERSION:2.0
CALSCALE:GREGORIAN
BEGIN:VEVENT
DTSTART;TZID=Europe/Berlin:20250521T083000
DTEND;TZID=Europe/Berlin:20250522T000000
SUMMARY:Vocatium Cottbus
DESCRIPTION:Lerne das Studienangebot der HSZG auf der zweitägigen Karrieremesse kennen.
END:VEVENT
END:VCALENDAR