BEGIN:VCALENDAR
VERSION:2.0
CALSCALE:GREGORIAN
BEGIN:VEVENT
DTSTART;TZID=Europe/Berlin:20240418T121500
DTEND;TZID=Europe/Berlin:20240419T000000
SUMMARY:TRAWOS-Interpretationswerkstatt
DESCRIPTION:Mit Jan Schaller (Elitenmonitor)
END:VEVENT
END:VCALENDAR