BEGIN:VCALENDAR
VERSION:2.0
CALSCALE:GREGORIAN
BEGIN:VEVENT
DTSTART;TZID=Europe/Berlin:20231130T140000
DTEND;TZID=Europe/Berlin:20231201T000000
SUMMARY:TRAWOS Forschungskolloquium
DESCRIPTION:Refugees Welcome im ländlichen Raum? 
END:VEVENT
END:VCALENDAR