BEGIN:VCALENDAR
VERSION:2.0
CALSCALE:GREGORIAN
BEGIN:VEVENT
DTSTART;TZID=Europe/Berlin:20240922T140000
DTEND;TZID=Europe/Berlin:20240923T000000
SUMMARY:Taiwan in Zittau erleben
DESCRIPTION:Taiwanische Kulturveranstaltung und Themenbuchausstellung zum Auftakt der Interkulturellen Woche im Landkreis Görlitz
END:VEVENT
END:VCALENDAR