BEGIN:VCALENDAR
VERSION:2.0
CALSCALE:GREGORIAN
BEGIN:VEVENT
DTSTART;TZID=Europe/Berlin:20221110T163000
DTEND;TZID=Europe/Berlin:20221111T000000
SUMMARY:„Stipendium? Dafür brauchst du keine 1\,0!“
DESCRIPTION:
END:VEVENT
END:VCALENDAR