BEGIN:VCALENDAR
VERSION:2.0
CALSCALE:GREGORIAN
BEGIN:VEVENT
DTSTART;TZID=Europe/Berlin:20221207T193000
DTEND;TZID=Europe/Berlin:20221208T000000
SUMMARY:Starke Frauen - Ein Liederabend im Kulturforum Görlitzer Synagoge
DESCRIPTION:Den Liederabend bestreiten Albena Petrovic\, Piano\, Naama Liany\, Mezzosopran sowie Nino Jvania\, Piano.
END:VEVENT
END:VCALENDAR