BEGIN:VCALENDAR
VERSION:2.0
CALSCALE:GREGORIAN
BEGIN:VEVENT
DTSTART;TZID=Europe/Berlin:20220216T180000
DTEND;TZID=Europe/Berlin:20220217T000000
SUMMARY:Stammtisch Elektromobilität - Nummero 3
DESCRIPTION:Wir treffen uns zum dritten Mal. Interessierte sind herzlich eingeladen!
END:VEVENT
END:VCALENDAR