BEGIN:VCALENDAR
VERSION:2.0
CALSCALE:GREGORIAN
BEGIN:VEVENT
DTSTART;TZID=Europe/Berlin:20230707T103000
DTEND;TZID=Europe/Berlin:20230708T000000
SUMMARY:Siegerehrung Schrittzählerchallenge
DESCRIPTION:
END:VEVENT
END:VCALENDAR