BEGIN:VCALENDAR
VERSION:2.0
CALSCALE:GREGORIAN
BEGIN:VEVENT
DTSTART;TZID=Europe/Berlin:20220719T121500
DTEND;TZID=Europe/Berlin:20220720T000000
SUMMARY:Siegerehrung Schrittzähler-Challenge
DESCRIPTION:
END:VEVENT
END:VCALENDAR