BEGIN:VCALENDAR
VERSION:2.0
CALSCALE:GREGORIAN
BEGIN:VEVENT
DTSTART;TZID=Europe/Berlin:20231108T161500
DTEND;TZID=Europe/Berlin:20231109T000000
SUMMARY:SeniorenKolleg Zittau\:Wie Hilfreich ist Geographie für das Verstehen von Klimawandel  
DESCRIPTION:Vortragsveranstaltung in Zittau 
END:VEVENT
END:VCALENDAR