BEGIN:VCALENDAR
VERSION:2.0
CALSCALE:GREGORIAN
BEGIN:VEVENT
DTSTART;TZID=Europe/Berlin:20240605T161500
DTEND;TZID=Europe/Berlin:20240606T000000
SUMMARY:SeniorenKolleg Zittau\: Zur Stellung von HAWs im tertiären Bildungsbereich
DESCRIPTION:Beitrag des Studium fundamentale zum dies academicus
END:VEVENT
END:VCALENDAR