BEGIN:VCALENDAR
VERSION:2.0
CALSCALE:GREGORIAN
BEGIN:VEVENT
DTSTART;TZID=Europe/Berlin:20240117T161500
DTEND;TZID=Europe/Berlin:20240118T000000
SUMMARY:SeniorenKolleg Zittau\: Gleichstellung Aktuell - für Ältere (fällt krankheitsbedingt aus)
DESCRIPTION:Vortragsveranstaltung in Zittau 
END:VEVENT
END:VCALENDAR