BEGIN:VCALENDAR
VERSION:2.0
CALSCALE:GREGORIAN
BEGIN:VEVENT
DTSTART;TZID=Europe/Berlin:20250521T161500
DTEND;TZID=Europe/Berlin:20250522T000000
SUMMARY:SeniorenKolleg Görlitz\: Soll die Lehrerin und Beamtin heiraten?
DESCRIPTION:Das Frauenleben in Schlesien am Anfang des 20. Jh.
END:VEVENT
END:VCALENDAR