BEGIN:VCALENDAR
VERSION:2.0
CALSCALE:GREGORIAN
BEGIN:VEVENT
DTSTART;TZID=Europe/Berlin:20250122T161500
DTEND;TZID=Europe/Berlin:20250123T000000
SUMMARY:SeniorenKolleg Görlitz\: Höhen über Normalnull - die Europäischen Nullpegel
DESCRIPTION:Vortragsveranstaltung in Görlitz
END:VEVENT
END:VCALENDAR