BEGIN:VCALENDAR
VERSION:2.0
CALSCALE:GREGORIAN
BEGIN:VEVENT
DTSTART;TZID=Europe/Berlin:20240612T161500
DTEND;TZID=Europe/Berlin:20240613T000000
SUMMARY:SeniorenKolleg Görlitz\: Cybercrime und Prävention 
DESCRIPTION:Vortragsveranstaltung in Görlitz
END:VEVENT
END:VCALENDAR