BEGIN:VCALENDAR
VERSION:2.0
CALSCALE:GREGORIAN
BEGIN:VEVENT
DTSTART;TZID=Europe/Berlin:20250508T160000
DTEND;TZID=Europe/Berlin:20250509T000000
SUMMARY:Selbstmanagement-Workshop\: Effektives Zeitmanagement &amp; Prioritäten setzen.
DESCRIPTION:Wie Du Deinen Studienalltag erfolgreich meisterst.
END:VEVENT
END:VCALENDAR