BEGIN:VCALENDAR
VERSION:2.0
CALSCALE:GREGORIAN
BEGIN:VEVENT
DTSTART;TZID=Europe/Berlin:20250521T160000
DTEND;TZID=Europe/Berlin:20250522T000000
SUMMARY:Selbstmanagement-Workshop\: Digitale Tools für Zusammenarbeit &amp; Kollaboration.
DESCRIPTION:Wie Du Deinen Studienalltag erfolgreich meisterst.
END:VEVENT
END:VCALENDAR