BEGIN:VCALENDAR
VERSION:2.0
CALSCALE:GREGORIAN
BEGIN:VEVENT
DTSTART;TZID=Europe/Berlin:20221001T193000
DTEND;TZID=Europe/Berlin:20221002T000000
SUMMARY:Science meets Music
DESCRIPTION:Die HSZG auf der Neustadt-Bühne beim Landeserntedankfest in Zittau
END:VEVENT
END:VCALENDAR