BEGIN:VCALENDAR
VERSION:2.0
CALSCALE:GREGORIAN
BEGIN:VEVENT
DTSTART;TZID=Europe/Berlin:20240228T140000
DTEND;TZID=Europe/Berlin:20240229T000000
SUMMARY:Schulnetzwerk\: Kollegialer Austausch zum Thema „Fabmobil“
DESCRIPTION:Das Fabmobil stellt sich vor!
END:VEVENT
END:VCALENDAR