BEGIN:VCALENDAR
VERSION:2.0
CALSCALE:GREGORIAN
BEGIN:VEVENT
DTSTART;TZID=Europe/Berlin:20210604T130000
DTEND;TZID=Europe/Berlin:20210612T130000
SUMMARY:Schrittzähler-Challenge
DESCRIPTION:Gesundheits- und Umwelttage 2021
END:VEVENT
END:VCALENDAR