BEGIN:VCALENDAR
VERSION:2.0
CALSCALE:GREGORIAN
BEGIN:VEVENT
DTSTART;TZID=Europe/Berlin:20250424T130000
DTEND;TZID=Europe/Berlin:20250425T000000
SUMMARY:Sächsische Energietage - Schmiermittelfreie Industriedampfturbine (SFDT)
DESCRIPTION:Die Sächsischen Energietage ermöglichen einen Blick hinter die Kulissen von Betrieben und Forschung.
END:VEVENT
END:VCALENDAR