BEGIN:VCALENDAR
VERSION:2.0
CALSCALE:GREGORIAN
BEGIN:VEVENT
DTSTART;TZID=Europe/Berlin:20230819T080000
DTEND;TZID=Europe/Berlin:20230820T000000
SUMMARY:Sailing for Soul\: Das Segelcamp 2023
DESCRIPTION:Teamentwicklung auf hoher See
END:VEVENT
END:VCALENDAR