BEGIN:VCALENDAR
VERSION:2.0
CALSCALE:GREGORIAN
BEGIN:VEVENT
DTSTART;TZID=Europe/Berlin:20221108T102000
DTEND;TZID=Europe/Berlin:20221110T000000
SUMMARY:Projects4GreenEnergy\:Connected
DESCRIPTION:Am 8. und 9. November 2022 findet online die Vernetzungsveranstaltung Projects4GreenEnergy\:Connected statt. 
END:VEVENT
END:VCALENDAR