BEGIN:VCALENDAR
VERSION:2.0
CALSCALE:GREGORIAN
BEGIN:VEVENT
DTSTART;TZID=Europe/Berlin:20251010T100000
DTEND;TZID=Europe/Berlin:20251031T000000
SUMMARY:Netzwerkkolloquium\: Innovative Verbundwerkstoffe und Oberflächenbeschichtungen
DESCRIPTION:Kolloquium des RENI-Projekts
END:VEVENT
END:VCALENDAR