BEGIN:VCALENDAR
VERSION:2.0
CALSCALE:GREGORIAN
BEGIN:VEVENT
DTSTART;TZID=Europe/Berlin:20221014T150000
DTEND;TZID=Europe/Berlin:20221015T000000
SUMMARY:Zittauer Kinderakademie\: Programmieren mit Daten oder Lernen durch Beispiele
DESCRIPTION:
END:VEVENT
END:VCALENDAR