BEGIN:VCALENDAR
VERSION:2.0
CALSCALE:GREGORIAN
BEGIN:VEVENT
DTSTART;TZID=Europe/Berlin:20211215T100000
DTEND;TZID=Europe/Berlin:20211216T000000
SUMMARY:[Online] Tourismus\: Die Zukunft der Region?
DESCRIPTION:Trilateraler Dialog– Deutschland\, Tschechien\, Polen
END:VEVENT
END:VCALENDAR