BEGIN:VCALENDAR
VERSION:2.0
CALSCALE:GREGORIAN
BEGIN:VEVENT
DTSTART;TZID=Europe/Berlin:20230927T150939
DTEND;TZID=Europe/Berlin:20230928T000000
SUMMARY:Online-Einschreibung Hochschulsport Wintersemester 2023/24
DESCRIPTION:Am 09.10.2023 um 07.00 Uhr beginnt unsere Einschreibung 
END:VEVENT
END:VCALENDAR