BEGIN:VCALENDAR
VERSION:2.0
CALSCALE:GREGORIAN
BEGIN:VEVENT
DTSTART;TZID=Europe/Berlin:20231107T100000
DTEND;TZID=Europe/Berlin:20231109T000000
SUMMARY:Oberlausitzer Energiesymposium (OLES) in Verbindung mit dem Zittauer Energieseminar (ZES)
DESCRIPTION:Leitthema\: &quot;Wasserstoff - ein Netzwerk der Zukunft&quot;
END:VEVENT
END:VCALENDAR