BEGIN:VCALENDAR
VERSION:2.0
CALSCALE:GREGORIAN
BEGIN:VEVENT
DTSTART;TZID=Europe/Berlin:20240307T120000
DTEND;TZID=Europe/Berlin:20240309T000000
SUMMARY:Netzwerktreffen der Lausitzer Sozialwissenschaftler*innen
DESCRIPTION:Thema &quot;Methoden und Zugänge wirkungsorientierter Forschungsprojekte in der Lausitz&quot;
END:VEVENT
END:VCALENDAR