BEGIN:VCALENDAR
VERSION:2.0
CALSCALE:GREGORIAN
BEGIN:VEVENT
DTSTART;TZID=Europe/Berlin:20240606T180000
DTEND;TZID=Europe/Berlin:20240607T000000
SUMMARY:Netzwerkabend GründerGrillen
DESCRIPTION:Für ExistenzgründerInnen &amp; jenen\, die es werden wollen &amp; solche\, die es schon sind…
END:VEVENT
END:VCALENDAR