BEGIN:VCALENDAR
VERSION:2.0
CALSCALE:GREGORIAN
BEGIN:VEVENT
DTSTART;TZID=Europe/Berlin:20230608T170000
DTEND;TZID=Europe/Berlin:20230609T000000
SUMMARY: Netzwerkabend Existenzgründung und StartUps - GründerGrillen
DESCRIPTION:Für ExistenzgründerInnen &amp; jenen\, die es werden wollen &amp; solche\, die es schon sind…
END:VEVENT
END:VCALENDAR