BEGIN:VCALENDAR
VERSION:2.0
CALSCALE:GREGORIAN
BEGIN:VEVENT
DTSTART;TZID=Europe/Berlin:20230524T170000
DTEND;TZID=Europe/Berlin:20230525T000000
SUMMARY:NETZ-WERK-STATT für Gründer und junge Unternehmer
DESCRIPTION:Selbst(&amp;)ständig - die richtige Balance zwischen Privatleben und Unternehmung finden
END:VEVENT
END:VCALENDAR