BEGIN:VCALENDAR
VERSION:2.0
CALSCALE:GREGORIAN
BEGIN:VEVENT
DTSTART;TZID=Europe/Berlin:20230113T160000
DTEND;TZID=Europe/Berlin:20230114T000000
SUMMARY:Zittauer Kinderakademie\: Mit der Kinderakademie zu Gast in Löbau
DESCRIPTION:3D-Druck und Augmented Reality\: Zukunft hautnah erleben
END:VEVENT
END:VCALENDAR