BEGIN:VCALENDAR
VERSION:2.0
CALSCALE:GREGORIAN
BEGIN:VEVENT
DTSTART;TZID=Europe/Berlin:20210104T020000
DTEND;TZID=Europe/Berlin:20210122T230000
SUMMARY:„Mensch\, Görlitz! revisited“ [Ausstellung im Rathaus Görlitz]
DESCRIPTION:Ausstellung zeigt was Görlitz am Nachmittag macht – studentisches Projekt bringt Görlitzer*innen näher zusammen!
END:VEVENT
END:VCALENDAR