BEGIN:VCALENDAR
VERSION:2.0
CALSCALE:GREGORIAN
BEGIN:VEVENT
DTSTART;TZID=Europe/Berlin:20230516T090000
DTEND;TZID=Europe/Berlin:20230516T090000
SUMMARY:Kuchenbasar
DESCRIPTION:Am 16.05.2023 in der Zeit von  9 bis 14 Uhr genießen und was Gutes tun.
END:VEVENT
END:VCALENDAR