BEGIN:VCALENDAR
VERSION:2.0
CALSCALE:GREGORIAN
BEGIN:VEVENT
DTSTART;TZID=Europe/Berlin:20240530T161500
DTEND;TZID=Europe/Berlin:20240531T000000
SUMMARY:Krisen und Alter(n) - Ringvorlesung &quot;Navigieren in unsicheren Zeiten&quot;
DESCRIPTION:Ringvorlesung &quot;Navigieren in unsicheren Zeiten - Gesellschaftskrisen und ihre Gestaltung&quot; des Master Management Sozialen Wandels und Master Soziale Gerontologie in Kooperation mit dem TRAWOS-Institut
END:VEVENT
END:VCALENDAR