BEGIN:VCALENDAR
VERSION:2.0
CALSCALE:GREGORIAN
BEGIN:VEVENT
DTSTART;TZID=Europe/Berlin:20250402T140000
DTEND;TZID=Europe/Berlin:20250403T000000
SUMMARY:Kartrennen der Fakultäten
DESCRIPTION:Welche Fakultät stellt das schnellste Team?
END:VEVENT
END:VCALENDAR