BEGIN:VCALENDAR
VERSION:2.0
CALSCALE:GREGORIAN
BEGIN:VEVENT
DTSTART;TZID=Europe/Berlin:20221008T100000
DTEND;TZID=Europe/Berlin:20221010T000000
SUMMARY:Karrieremesse MACH WAS! | Chemnitz
DESCRIPTION:
END:VEVENT
END:VCALENDAR