BEGIN:VCALENDAR
VERSION:2.0
CALSCALE:GREGORIAN
BEGIN:VEVENT
DTSTART;TZID=Europe/Berlin:20220813T150000
DTEND;TZID=Europe/Berlin:20220822T000000
SUMMARY:Kaleidoskop der Räume. 3D-Klanginstallation
DESCRIPTION:Kommen und Gehen - Das Sechs-Städtebundfestival präsentiert Orchestronik in 3D Audio\: Ein einzigartiges Hörerlebnis auf dem Zittauer Campus.
END:VEVENT
END:VCALENDAR