BEGIN:VCALENDAR
VERSION:2.0
CALSCALE:GREGORIAN
BEGIN:VEVENT
DTSTART;TZID=Europe/Berlin:20250409T130000
DTEND;TZID=Europe/Berlin:20250410T000000
SUMMARY:International Business Conference 2025
DESCRIPTION:Focus on the Semiconductor Industry\: Taiwan\, Japan\, Germany\, and the Czech Republic
END:VEVENT
END:VCALENDAR